BEGIN:VCALENDAR
VERSION:2.0
PRODID:-//CERCLE D&#039;ESCRIME DE SAINT-NOM-LA-BRETECHE - ECPv6.15.13//NONSGML v1.0//EN
CALSCALE:GREGORIAN
METHOD:PUBLISH
X-WR-CALNAME:CERCLE D&#039;ESCRIME DE SAINT-NOM-LA-BRETECHE
X-ORIGINAL-URL:https://escrime-stnom.fr
X-WR-CALDESC:Évènements pour CERCLE D&#039;ESCRIME DE SAINT-NOM-LA-BRETECHE
REFRESH-INTERVAL;VALUE=DURATION:PT1H
X-Robots-Tag:noindex
X-PUBLISHED-TTL:PT1H
BEGIN:VTIMEZONE
TZID:Europe/Paris
BEGIN:DAYLIGHT
TZOFFSETFROM:+0100
TZOFFSETTO:+0200
TZNAME:CEST
DTSTART:20220327T010000
END:DAYLIGHT
BEGIN:STANDARD
TZOFFSETFROM:+0200
TZOFFSETTO:+0100
TZNAME:CET
DTSTART:20221030T010000
END:STANDARD
BEGIN:DAYLIGHT
TZOFFSETFROM:+0100
TZOFFSETTO:+0200
TZNAME:CEST
DTSTART:20230326T010000
END:DAYLIGHT
BEGIN:STANDARD
TZOFFSETFROM:+0200
TZOFFSETTO:+0100
TZNAME:CET
DTSTART:20231029T010000
END:STANDARD
BEGIN:DAYLIGHT
TZOFFSETFROM:+0100
TZOFFSETTO:+0200
TZNAME:CEST
DTSTART:20240331T010000
END:DAYLIGHT
BEGIN:STANDARD
TZOFFSETFROM:+0200
TZOFFSETTO:+0100
TZNAME:CET
DTSTART:20241027T010000
END:STANDARD
END:VTIMEZONE
BEGIN:VEVENT
DTSTART;TZID=Europe/Paris:20230608T180000
DTEND;TZID=Europe/Paris:20230608T220000
DTSTAMP:20260424T141522
CREATED:20230507T153326Z
LAST-MODIFIED:20230507T153414Z
UID:3849-1686247200-1686261600@escrime-stnom.fr
SUMMARY:Semaine copains-copines jeudi 08 juin 2023
DESCRIPTION:Tu es l’âme d’un pirate\, d’un mousquetaire\, d’un jedi… ou juste envie de jouer avec des copains ? \nViens découvrir l’escrime le mardi 06/06 au Pôle Sportif de Saint Nom la Bretèche. Inscris toi via cette page pour que nous puissions t’accueillir dans les meilleures conditions ! \n\n\n\n\n  \n\nPrimaire : RDV 18h00 (fin à 19h15)\nCollège : RDV 19h00 (fin à 20h30)\nAdultes : RDV 20h15 (fin 21h45)\n\nEquipement : \n\ntenue de sport (pantalon LONG !!!)\nchaussures de sports propres et utilisées uniquement en intérieur\ngourde
URL:https://escrime-stnom.fr/evenement/semaine-copains-copines-jeudi-08-juin-2023/
LOCATION:Pôle Sportif Teddy Riner\, Rue Guy Moignier\, St Nom la Bretèche\, 78860\, France
CATEGORIES:Portes ouvertes
ATTACH;FMTTYPE=image/png:https://escrime-stnom.fr/wp-content/uploads/2023/05/FFE-COPAINSCOPINES_Carre_RS.png
END:VEVENT
END:VCALENDAR