BEGIN:VCALENDAR
VERSION:2.0
PRODID:-//CERCLE D&#039;ESCRIME DE SAINT-NOM-LA-BRETECHE - ECPv6.15.13//NONSGML v1.0//EN
CALSCALE:GREGORIAN
METHOD:PUBLISH
X-ORIGINAL-URL:https://escrime-stnom.fr
X-WR-CALDESC:Évènements pour CERCLE D&#039;ESCRIME DE SAINT-NOM-LA-BRETECHE
REFRESH-INTERVAL;VALUE=DURATION:PT1H
X-Robots-Tag:noindex
X-PUBLISHED-TTL:PT1H
BEGIN:VTIMEZONE
TZID:Europe/Paris
BEGIN:DAYLIGHT
TZOFFSETFROM:+0100
TZOFFSETTO:+0200
TZNAME:CEST
DTSTART:20220327T010000
END:DAYLIGHT
BEGIN:STANDARD
TZOFFSETFROM:+0200
TZOFFSETTO:+0100
TZNAME:CET
DTSTART:20221030T010000
END:STANDARD
BEGIN:DAYLIGHT
TZOFFSETFROM:+0100
TZOFFSETTO:+0200
TZNAME:CEST
DTSTART:20230326T010000
END:DAYLIGHT
BEGIN:STANDARD
TZOFFSETFROM:+0200
TZOFFSETTO:+0100
TZNAME:CET
DTSTART:20231029T010000
END:STANDARD
BEGIN:DAYLIGHT
TZOFFSETFROM:+0100
TZOFFSETTO:+0200
TZNAME:CEST
DTSTART:20240331T010000
END:DAYLIGHT
BEGIN:STANDARD
TZOFFSETFROM:+0200
TZOFFSETTO:+0100
TZNAME:CET
DTSTART:20241027T010000
END:STANDARD
END:VTIMEZONE
BEGIN:VEVENT
DTSTART;TZID=Europe/Paris:20230629T193000
DTEND;TZID=Europe/Paris:20230629T210000
DTSTAMP:20260424T123751
CREATED:20230507T171541Z
LAST-MODIFIED:20230507T171541Z
UID:3888-1688067000-1688072400@escrime-stnom.fr
SUMMARY:Fin de saison 22/23 : Remise du matériel
DESCRIPTION:Rendez vous entre 19h30 et 21h00 \nMatériel lavé 🙂
URL:https://escrime-stnom.fr/evenement/fin-de-saison-22-23-remise-du-materiel/
LOCATION:Pôle Sportif Teddy Riner\, Rue Guy Moignier\, St Nom la Bretèche\, 78860\, France
CATEGORIES:Evénement Club
END:VEVENT
END:VCALENDAR