BEGIN:VCALENDAR
VERSION:2.0
PRODID:-//CERCLE D&#039;ESCRIME DE SAINT-NOM-LA-BRETECHE - ECPv6.15.13//NONSGML v1.0//EN
CALSCALE:GREGORIAN
METHOD:PUBLISH
X-WR-CALNAME:CERCLE D&#039;ESCRIME DE SAINT-NOM-LA-BRETECHE
X-ORIGINAL-URL:https://escrime-stnom.fr
X-WR-CALDESC:Évènements pour CERCLE D&#039;ESCRIME DE SAINT-NOM-LA-BRETECHE
REFRESH-INTERVAL;VALUE=DURATION:PT1H
X-Robots-Tag:noindex
X-PUBLISHED-TTL:PT1H
BEGIN:VTIMEZONE
TZID:Europe/Paris
BEGIN:DAYLIGHT
TZOFFSETFROM:+0100
TZOFFSETTO:+0200
TZNAME:CEST
DTSTART:20230326T010000
END:DAYLIGHT
BEGIN:STANDARD
TZOFFSETFROM:+0200
TZOFFSETTO:+0100
TZNAME:CET
DTSTART:20231029T010000
END:STANDARD
BEGIN:DAYLIGHT
TZOFFSETFROM:+0100
TZOFFSETTO:+0200
TZNAME:CEST
DTSTART:20240331T010000
END:DAYLIGHT
BEGIN:STANDARD
TZOFFSETFROM:+0200
TZOFFSETTO:+0100
TZNAME:CET
DTSTART:20241027T010000
END:STANDARD
BEGIN:DAYLIGHT
TZOFFSETFROM:+0100
TZOFFSETTO:+0200
TZNAME:CEST
DTSTART:20250330T010000
END:DAYLIGHT
BEGIN:STANDARD
TZOFFSETFROM:+0200
TZOFFSETTO:+0100
TZNAME:CET
DTSTART:20251026T010000
END:STANDARD
END:VTIMEZONE
BEGIN:VEVENT
DTSTART;TZID=Europe/Paris:20240623T113000
DTEND;TZID=Europe/Paris:20240623T123000
DTSTAMP:20260423T193734
CREATED:20240614T102650Z
LAST-MODIFIED:20240614T102650Z
UID:4399-1719142200-1719145800@escrime-stnom.fr
SUMMARY:Faites du sport à Saint-Nom : rdv le 23 juin
DESCRIPTION:Faites du Sport à Saint-Nom le dimanche 23 juin et en particulier venez découvrir l’escrime au Pôle Sportif Teddy Riner entre 11H30 et 12H30 ! \nTous les détails sur le site de la mairie.
URL:https://escrime-stnom.fr/evenement/faites-du-sport-a-saint-nom-rdv-le-23-juin/
LOCATION:Pôle Sportif Teddy Riner\, Rue Guy Moignier\, St Nom la Bretèche\, 78860\, France
CATEGORIES:Portes ouvertes
END:VEVENT
END:VCALENDAR