BEGIN:VCALENDAR
VERSION:2.0
PRODID:-//CERCLE D&#039;ESCRIME DE SAINT-NOM-LA-BRETECHE - ECPv6.15.13//NONSGML v1.0//EN
CALSCALE:GREGORIAN
METHOD:PUBLISH
X-WR-CALNAME:CERCLE D&#039;ESCRIME DE SAINT-NOM-LA-BRETECHE
X-ORIGINAL-URL:https://escrime-stnom.fr
X-WR-CALDESC:Évènements pour CERCLE D&#039;ESCRIME DE SAINT-NOM-LA-BRETECHE
REFRESH-INTERVAL;VALUE=DURATION:PT1H
X-Robots-Tag:noindex
X-PUBLISHED-TTL:PT1H
BEGIN:VTIMEZONE
TZID:Europe/Paris
BEGIN:DAYLIGHT
TZOFFSETFROM:+0100
TZOFFSETTO:+0200
TZNAME:CEST
DTSTART:20240331T010000
END:DAYLIGHT
BEGIN:STANDARD
TZOFFSETFROM:+0200
TZOFFSETTO:+0100
TZNAME:CET
DTSTART:20241027T010000
END:STANDARD
BEGIN:DAYLIGHT
TZOFFSETFROM:+0100
TZOFFSETTO:+0200
TZNAME:CEST
DTSTART:20250330T010000
END:DAYLIGHT
BEGIN:STANDARD
TZOFFSETFROM:+0200
TZOFFSETTO:+0100
TZNAME:CET
DTSTART:20251026T010000
END:STANDARD
BEGIN:DAYLIGHT
TZOFFSETFROM:+0100
TZOFFSETTO:+0200
TZNAME:CEST
DTSTART:20260329T010000
END:DAYLIGHT
BEGIN:STANDARD
TZOFFSETFROM:+0200
TZOFFSETTO:+0100
TZNAME:CET
DTSTART:20261025T010000
END:STANDARD
END:VTIMEZONE
BEGIN:VEVENT
DTSTART;TZID=Europe/Paris:20250603T000000
DTEND;TZID=Europe/Paris:20250619T235959
DTSTAMP:20260424T030403
CREATED:20250601T142005Z
LAST-MODIFIED:20250601T142025Z
UID:5231-1748908800-1750377599@escrime-stnom.fr
SUMMARY:Passage des Lames jaune\, rouge\, bleue et verte
DESCRIPTION:
URL:https://escrime-stnom.fr/evenement/passage-des-lames-jaune-rouge-bleue-et-verte/
CATEGORIES:Evénement Club
END:VEVENT
BEGIN:VEVENT
DTSTART;TZID=Europe/Paris:20250619T080000
DTEND;TZID=Europe/Paris:20250619T170000
DTSTAMP:20260424T030403
CREATED:20250601T142116Z
LAST-MODIFIED:20250601T142117Z
UID:5234-1750320000-1750352400@escrime-stnom.fr
SUMMARY:Dernier cours 2024/2025
DESCRIPTION:
URL:https://escrime-stnom.fr/evenement/dernier-cours-2024-2025/
CATEGORIES:Evénement Club
END:VEVENT
BEGIN:VEVENT
DTSTART;TZID=Europe/Paris:20250624T190000
DTEND;TZID=Europe/Paris:20250624T210000
DTSTAMP:20260424T030403
CREATED:20250601T142353Z
LAST-MODIFIED:20250601T142356Z
UID:5240-1750791600-1750798800@escrime-stnom.fr
SUMMARY:Assemblée Générale et Remise des Récompenses et diplômes
DESCRIPTION:
URL:https://escrime-stnom.fr/evenement/assemblee-generale-et-remise-des-recompenses-et-diplomes/
LOCATION:Pôle Sportif Teddy Riner\, Rue Guy Moignier\, St Nom la Bretèche\, 78860\, France
CATEGORIES:Evénement Club
END:VEVENT
BEGIN:VEVENT
DTSTART;TZID=Europe/Paris:20250626T193000
DTEND;TZID=Europe/Paris:20250626T210000
DTSTAMP:20260424T030403
CREATED:20250601T142210Z
LAST-MODIFIED:20250601T142213Z
UID:5236-1750966200-1750971600@escrime-stnom.fr
SUMMARY:Remise du matériel #1
DESCRIPTION:
URL:https://escrime-stnom.fr/evenement/remise-du-materiel-1/
CATEGORIES:Evénement Club
END:VEVENT
END:VCALENDAR