BEGIN:VCALENDAR
VERSION:2.0
PRODID:-//CERCLE D&#039;ESCRIME DE SAINT-NOM-LA-BRETECHE - ECPv6.15.13//NONSGML v1.0//EN
CALSCALE:GREGORIAN
METHOD:PUBLISH
X-ORIGINAL-URL:https://escrime-stnom.fr
X-WR-CALDESC:Évènements pour CERCLE D&#039;ESCRIME DE SAINT-NOM-LA-BRETECHE
REFRESH-INTERVAL;VALUE=DURATION:PT1H
X-Robots-Tag:noindex
X-PUBLISHED-TTL:PT1H
BEGIN:VTIMEZONE
TZID:Europe/Paris
BEGIN:DAYLIGHT
TZOFFSETFROM:+0100
TZOFFSETTO:+0200
TZNAME:CEST
DTSTART:20240331T010000
END:DAYLIGHT
BEGIN:STANDARD
TZOFFSETFROM:+0200
TZOFFSETTO:+0100
TZNAME:CET
DTSTART:20241027T010000
END:STANDARD
BEGIN:DAYLIGHT
TZOFFSETFROM:+0100
TZOFFSETTO:+0200
TZNAME:CEST
DTSTART:20250330T010000
END:DAYLIGHT
BEGIN:STANDARD
TZOFFSETFROM:+0200
TZOFFSETTO:+0100
TZNAME:CET
DTSTART:20251026T010000
END:STANDARD
BEGIN:DAYLIGHT
TZOFFSETFROM:+0100
TZOFFSETTO:+0200
TZNAME:CEST
DTSTART:20260329T010000
END:DAYLIGHT
BEGIN:STANDARD
TZOFFSETFROM:+0200
TZOFFSETTO:+0100
TZNAME:CET
DTSTART:20261025T010000
END:STANDARD
END:VTIMEZONE
BEGIN:VEVENT
DTSTART;TZID=Europe/Paris:20250302T103000
DTEND;TZID=Europe/Paris:20250302T123000
DTSTAMP:20260423T194404
CREATED:20241123T154455Z
LAST-MODIFIED:20250129T094326Z
UID:4732-1740911400-1740918600@escrime-stnom.fr
SUMMARY:Séance entraînement Adultes inter clubs - mars 2025
DESCRIPTION:Rejoignez nous le dimanche 02 mars 2025 pour une séance d’entraînement libre\, inter clubs. \nMerci de vous inscrire sur cette page.
URL:https://escrime-stnom.fr/evenement/seance-entrainement-inter-clubs-mars-2025/
LOCATION:Pôle Sportif Teddy Riner\, Rue Guy Moignier\, St Nom la Bretèche\, 78860\, France
CATEGORIES:Portes ouvertes
END:VEVENT
BEGIN:VEVENT
DTSTART;TZID=Europe/Paris:20250330T103000
DTEND;TZID=Europe/Paris:20250330T123000
DTSTAMP:20260423T194404
CREATED:20250319T110953Z
LAST-MODIFIED:20250319T160703Z
UID:5110-1743330600-1743337800@escrime-stnom.fr
SUMMARY:Découverte Adultes Epée - 30 mars 2025
DESCRIPTION:Le Club vous convie à une séance de 2H de découverte de la pratique de l’Epée. \nInscription obligatoire (nombre de places limité)  \nDimanche 30 mars de 10h30 à 12H30 au Pôle Sportif Teddy Riner.
URL:https://escrime-stnom.fr/evenement/decouverte-adultes-epee-30-mars-2025/
LOCATION:Espace JKM\, 10 Rue Arthur Rimbaud\, Saint-Nom-la-Bretèche\, 78860\, France
CATEGORIES:Portes ouvertes
END:VEVENT
END:VCALENDAR