BEGIN:VCALENDAR
VERSION:2.0
PRODID:-//CERCLE D&#039;ESCRIME DE SAINT-NOM-LA-BRETECHE - ECPv6.15.13//NONSGML v1.0//EN
CALSCALE:GREGORIAN
METHOD:PUBLISH
X-WR-CALNAME:CERCLE D&#039;ESCRIME DE SAINT-NOM-LA-BRETECHE
X-ORIGINAL-URL:https://escrime-stnom.fr
X-WR-CALDESC:Évènements pour CERCLE D&#039;ESCRIME DE SAINT-NOM-LA-BRETECHE
REFRESH-INTERVAL;VALUE=DURATION:PT1H
X-Robots-Tag:noindex
X-PUBLISHED-TTL:PT1H
BEGIN:VTIMEZONE
TZID:Europe/Paris
BEGIN:DAYLIGHT
TZOFFSETFROM:+0100
TZOFFSETTO:+0200
TZNAME:CEST
DTSTART:20220327T010000
END:DAYLIGHT
BEGIN:STANDARD
TZOFFSETFROM:+0200
TZOFFSETTO:+0100
TZNAME:CET
DTSTART:20221030T010000
END:STANDARD
BEGIN:DAYLIGHT
TZOFFSETFROM:+0100
TZOFFSETTO:+0200
TZNAME:CEST
DTSTART:20230326T010000
END:DAYLIGHT
BEGIN:STANDARD
TZOFFSETFROM:+0200
TZOFFSETTO:+0100
TZNAME:CET
DTSTART:20231029T010000
END:STANDARD
BEGIN:DAYLIGHT
TZOFFSETFROM:+0100
TZOFFSETTO:+0200
TZNAME:CEST
DTSTART:20240331T010000
END:DAYLIGHT
BEGIN:STANDARD
TZOFFSETFROM:+0200
TZOFFSETTO:+0100
TZNAME:CET
DTSTART:20241027T010000
END:STANDARD
END:VTIMEZONE
BEGIN:VEVENT
DTSTART;TZID=Europe/Paris:20230702T103000
DTEND;TZID=Europe/Paris:20230702T120000
DTSTAMP:20260424T112513
CREATED:20230507T171630Z
LAST-MODIFIED:20230701T134534Z
UID:3890-1688293800-1688299200@escrime-stnom.fr
SUMMARY:Fin de saison 22/23 : remise du matériel
DESCRIPTION:Matériel propre et lavé !
URL:https://escrime-stnom.fr/evenement/fin-de-saison-22-23-remise-du-materiel-2/
LOCATION:Pôle Sportif Teddy Riner\, Rue Guy Moignier\, St Nom la Bretèche\, 78860\, France
CATEGORIES:Evénement Club
END:VEVENT
BEGIN:VEVENT
DTSTART;TZID=Europe/Paris:20230702T103000
DTEND;TZID=Europe/Paris:20230702T123000
DTSTAMP:20260424T112513
CREATED:20230128T190110Z
LAST-MODIFIED:20230131T074601Z
UID:3682-1688293800-1688301000@escrime-stnom.fr
SUMMARY:Séance Entraînement inter club Adultes
DESCRIPTION:Rejoignez nous le dimanche 02 juillet pour une séance d’entraînement libre\, inter clubs. \nMerci de vous inscrire sur cette page.
URL:https://escrime-stnom.fr/evenement/seance-entrainement-inter-club-adultes-4/
LOCATION:Pôle Sportif Teddy Riner\, Rue Guy Moignier\, St Nom la Bretèche\, 78860\, France
CATEGORIES:Evénement Club
END:VEVENT
BEGIN:VEVENT
DTSTART;TZID=Europe/Paris:20230704T193000
DTEND;TZID=Europe/Paris:20230704T210000
DTSTAMP:20260424T112513
CREATED:20230702T151002Z
LAST-MODIFIED:20230702T151002Z
UID:3968-1688499000-1688504400@escrime-stnom.fr
SUMMARY:Fin de saison 22/23 : 3e et dernière session remise du matériel
DESCRIPTION:La 3e et dernière session de remise du matériel loué cette saison aura lieu le mardi04 juillet de 19h30 à 21h00. \n 
URL:https://escrime-stnom.fr/evenement/fin-de-saison-22-23-3e-et-derniere-session-remise-du-materiel/
LOCATION:Pôle Sportif Teddy Riner\, Rue Guy Moignier\, St Nom la Bretèche\, 78860\, France
CATEGORIES:Evénement Club
END:VEVENT
END:VCALENDAR