BEGIN:VCALENDAR
VERSION:2.0
PRODID:-//CERCLE D&#039;ESCRIME DE SAINT-NOM-LA-BRETECHE - ECPv6.15.13//NONSGML v1.0//EN
CALSCALE:GREGORIAN
METHOD:PUBLISH
X-ORIGINAL-URL:https://escrime-stnom.fr
X-WR-CALDESC:Évènements pour CERCLE D&#039;ESCRIME DE SAINT-NOM-LA-BRETECHE
REFRESH-INTERVAL;VALUE=DURATION:PT1H
X-Robots-Tag:noindex
X-PUBLISHED-TTL:PT1H
BEGIN:VTIMEZONE
TZID:Europe/Paris
BEGIN:DAYLIGHT
TZOFFSETFROM:+0100
TZOFFSETTO:+0200
TZNAME:CEST
DTSTART:20230326T010000
END:DAYLIGHT
BEGIN:STANDARD
TZOFFSETFROM:+0200
TZOFFSETTO:+0100
TZNAME:CET
DTSTART:20231029T010000
END:STANDARD
BEGIN:DAYLIGHT
TZOFFSETFROM:+0100
TZOFFSETTO:+0200
TZNAME:CEST
DTSTART:20240331T010000
END:DAYLIGHT
BEGIN:STANDARD
TZOFFSETFROM:+0200
TZOFFSETTO:+0100
TZNAME:CET
DTSTART:20241027T010000
END:STANDARD
BEGIN:DAYLIGHT
TZOFFSETFROM:+0100
TZOFFSETTO:+0200
TZNAME:CEST
DTSTART:20250330T010000
END:DAYLIGHT
BEGIN:STANDARD
TZOFFSETFROM:+0200
TZOFFSETTO:+0100
TZNAME:CET
DTSTART:20251026T010000
END:STANDARD
END:VTIMEZONE
BEGIN:VEVENT
DTSTART;TZID=Europe/Paris:20240204T100000
DTEND;TZID=Europe/Paris:20240204T120000
DTSTAMP:20260424T000234
CREATED:20240120T165029Z
LAST-MODIFIED:20240120T165029Z
UID:4154-1707040800-1707048000@escrime-stnom.fr
SUMMARY:Séance découverte Escrime adultes février 2024
DESCRIPTION:A quelques mois des Jeux Olympiques Paris 2024\, c’est le moment de comprendre les règles de l’Escrime et de se mettre en garde\, sur piste\, avec une épée dans les mains… Et surtout de s’amuser ! \nVenez découvrir la pratique de l’épée le dimanche 04 février en vous inscrivant ci-dessous (adultes uniquement).
URL:https://escrime-stnom.fr/evenement/seance-decouverte-escrime-adultes-fevrier-2024/
LOCATION:Pôle Sportif Teddy Riner\, Rue Guy Moignier\, St Nom la Bretèche\, 78860\, France
CATEGORIES:Portes ouvertes
ATTACH;FMTTYPE=image/jpeg:https://escrime-stnom.fr/wp-content/uploads/2020/01/IMG_4705.jpg
END:VEVENT
END:VCALENDAR