BEGIN:VCALENDAR
VERSION:2.0
PRODID:-//CERCLE D&#039;ESCRIME DE SAINT-NOM-LA-BRETECHE - ECPv6.15.13//NONSGML v1.0//EN
CALSCALE:GREGORIAN
METHOD:PUBLISH
X-ORIGINAL-URL:https://escrime-stnom.fr
X-WR-CALDESC:Évènements pour CERCLE D&#039;ESCRIME DE SAINT-NOM-LA-BRETECHE
REFRESH-INTERVAL;VALUE=DURATION:PT1H
X-Robots-Tag:noindex
X-PUBLISHED-TTL:PT1H
BEGIN:VTIMEZONE
TZID:Europe/Paris
BEGIN:DAYLIGHT
TZOFFSETFROM:+0100
TZOFFSETTO:+0200
TZNAME:CEST
DTSTART:20230326T010000
END:DAYLIGHT
BEGIN:STANDARD
TZOFFSETFROM:+0200
TZOFFSETTO:+0100
TZNAME:CET
DTSTART:20231029T010000
END:STANDARD
BEGIN:DAYLIGHT
TZOFFSETFROM:+0100
TZOFFSETTO:+0200
TZNAME:CEST
DTSTART:20240331T010000
END:DAYLIGHT
BEGIN:STANDARD
TZOFFSETFROM:+0200
TZOFFSETTO:+0100
TZNAME:CET
DTSTART:20241027T010000
END:STANDARD
BEGIN:DAYLIGHT
TZOFFSETFROM:+0100
TZOFFSETTO:+0200
TZNAME:CEST
DTSTART:20250330T010000
END:DAYLIGHT
BEGIN:STANDARD
TZOFFSETFROM:+0200
TZOFFSETTO:+0100
TZNAME:CET
DTSTART:20251026T010000
END:STANDARD
END:VTIMEZONE
BEGIN:VEVENT
DTSTART;TZID=Europe/Paris:20240310T103000
DTEND;TZID=Europe/Paris:20240310T123000
DTSTAMP:20260423T223637
CREATED:20240225T151049Z
LAST-MODIFIED:20240305T095318Z
UID:4292-1710066600-1710073800@escrime-stnom.fr
SUMMARY:Séance entraînement inter clubs - mars 2024
DESCRIPTION:Rejoignez nous le dimanche 10 mars 2024 pour une séance d’entraînement libre\, inter clubs. \nMerci de vous inscrire sur cette page.
URL:https://escrime-stnom.fr/evenement/seance-entrainement-inter-clubs-mars-2024/
LOCATION:Pôle Sportif Teddy Riner\, Rue Guy Moignier\, St Nom la Bretèche\, 78860\, France
CATEGORIES:Portes ouvertes
END:VEVENT
END:VCALENDAR