BEGIN:VCALENDAR
VERSION:2.0
PRODID:-//CERCLE D&#039;ESCRIME DE SAINT-NOM-LA-BRETECHE - ECPv6.15.13//NONSGML v1.0//EN
CALSCALE:GREGORIAN
METHOD:PUBLISH
X-WR-CALNAME:CERCLE D&#039;ESCRIME DE SAINT-NOM-LA-BRETECHE
X-ORIGINAL-URL:https://escrime-stnom.fr
X-WR-CALDESC:Évènements pour CERCLE D&#039;ESCRIME DE SAINT-NOM-LA-BRETECHE
REFRESH-INTERVAL;VALUE=DURATION:PT1H
X-Robots-Tag:noindex
X-PUBLISHED-TTL:PT1H
BEGIN:VTIMEZONE
TZID:Europe/Paris
BEGIN:DAYLIGHT
TZOFFSETFROM:+0100
TZOFFSETTO:+0200
TZNAME:CEST
DTSTART:20230326T010000
END:DAYLIGHT
BEGIN:STANDARD
TZOFFSETFROM:+0200
TZOFFSETTO:+0100
TZNAME:CET
DTSTART:20231029T010000
END:STANDARD
BEGIN:DAYLIGHT
TZOFFSETFROM:+0100
TZOFFSETTO:+0200
TZNAME:CEST
DTSTART:20240331T010000
END:DAYLIGHT
BEGIN:STANDARD
TZOFFSETFROM:+0200
TZOFFSETTO:+0100
TZNAME:CET
DTSTART:20241027T010000
END:STANDARD
BEGIN:DAYLIGHT
TZOFFSETFROM:+0100
TZOFFSETTO:+0200
TZNAME:CEST
DTSTART:20250330T010000
END:DAYLIGHT
BEGIN:STANDARD
TZOFFSETFROM:+0200
TZOFFSETTO:+0100
TZNAME:CET
DTSTART:20251026T010000
END:STANDARD
END:VTIMEZONE
BEGIN:VEVENT
DTSTART;TZID=Europe/Paris:20240602T103000
DTEND;TZID=Europe/Paris:20240602T123000
DTSTAMP:20260423T181514
CREATED:20240407T193832Z
LAST-MODIFIED:20240407T193832Z
UID:4358-1717324200-1717331400@escrime-stnom.fr
SUMMARY:Séance entraînement inter clubs - juin 2024
DESCRIPTION:Rejoignez nous le dimanche 02 juin 2024 pour une séance d’entraînement libre\, inter clubs. \nMerci de vous inscrire sur cette page.
URL:https://escrime-stnom.fr/evenement/seance-entrainement-inter-clubs-juin-2024/
LOCATION:Pôle Sportif Teddy Riner\, Rue Guy Moignier\, St Nom la Bretèche\, 78860\, France
CATEGORIES:Evénement Club
END:VEVENT
BEGIN:VEVENT
DTSTART;TZID=Europe/Paris:20240623T113000
DTEND;TZID=Europe/Paris:20240623T123000
DTSTAMP:20260423T181514
CREATED:20240614T102650Z
LAST-MODIFIED:20240614T102650Z
UID:4399-1719142200-1719145800@escrime-stnom.fr
SUMMARY:Faites du sport à Saint-Nom : rdv le 23 juin
DESCRIPTION:Faites du Sport à Saint-Nom le dimanche 23 juin et en particulier venez découvrir l’escrime au Pôle Sportif Teddy Riner entre 11H30 et 12H30 ! \nTous les détails sur le site de la mairie.
URL:https://escrime-stnom.fr/evenement/faites-du-sport-a-saint-nom-rdv-le-23-juin/
LOCATION:Pôle Sportif Teddy Riner\, Rue Guy Moignier\, St Nom la Bretèche\, 78860\, France
CATEGORIES:Portes ouvertes
END:VEVENT
BEGIN:VEVENT
DTSTART;VALUE=DATE:20240625
DTEND;VALUE=DATE:20240626
DTSTAMP:20260423T181514
CREATED:20240615T153238Z
LAST-MODIFIED:20240615T153238Z
UID:4406-1719273600-1719359999@escrime-stnom.fr
SUMMARY:Dernier cours saison
DESCRIPTION:le mardi 25 juin 2024
URL:https://escrime-stnom.fr/evenement/dernier-cours-saison/
CATEGORIES:Evénement Club
END:VEVENT
BEGIN:VEVENT
DTSTART;TZID=Europe/Paris:20240627T190000
DTEND;TZID=Europe/Paris:20240627T210000
DTSTAMP:20260423T181514
CREATED:20240615T153146Z
LAST-MODIFIED:20240615T153146Z
UID:4404-1719514800-1719522000@escrime-stnom.fr
SUMMARY:Assemblée générale fin de saison 23/24
DESCRIPTION:L’Assemblée Générale et la remise des récompenses de fin de saison aura lieu le jeudi 27 juin à 19h au Pôle Sportif
URL:https://escrime-stnom.fr/evenement/assemblee-generale-fin-de-saison-23-24/
LOCATION:Pôle Sportif Teddy Riner\, Rue Guy Moignier\, St Nom la Bretèche\, 78860\, France
CATEGORIES:Evénement Club
END:VEVENT
END:VCALENDAR